BEGIN:VCALENDAR
VERSION:2.0
PRODID:-//Indie Author Project - ECPv6.15.20//NONSGML v1.0//EN
CALSCALE:GREGORIAN
METHOD:PUBLISH
X-ORIGINAL-URL:https://indieauthorproject.com
X-WR-CALDESC:Events for Indie Author Project
REFRESH-INTERVAL;VALUE=DURATION:PT1H
X-Robots-Tag:noindex
X-PUBLISHED-TTL:PT1H
BEGIN:VTIMEZONE
TZID:America/New_York
BEGIN:DAYLIGHT
TZOFFSETFROM:-0500
TZOFFSETTO:-0400
TZNAME:EDT
DTSTART:20190310T070000
END:DAYLIGHT
BEGIN:STANDARD
TZOFFSETFROM:-0400
TZOFFSETTO:-0500
TZNAME:EST
DTSTART:20191103T060000
END:STANDARD
BEGIN:DAYLIGHT
TZOFFSETFROM:-0500
TZOFFSETTO:-0400
TZNAME:EDT
DTSTART:20200308T070000
END:DAYLIGHT
BEGIN:STANDARD
TZOFFSETFROM:-0400
TZOFFSETTO:-0500
TZNAME:EST
DTSTART:20201101T060000
END:STANDARD
BEGIN:DAYLIGHT
TZOFFSETFROM:-0500
TZOFFSETTO:-0400
TZNAME:EDT
DTSTART:20210314T070000
END:DAYLIGHT
BEGIN:STANDARD
TZOFFSETFROM:-0400
TZOFFSETTO:-0500
TZNAME:EST
DTSTART:20211107T060000
END:STANDARD
END:VTIMEZONE
BEGIN:VEVENT
DTSTART;TZID=America/New_York:20201217T120000
DTEND;TZID=America/New_York:20201217T130000
DTSTAMP:20260424T023455
CREATED:20250703T160550Z
LAST-MODIFIED:20250703T162858Z
UID:6369-1608206400-1608210000@indieauthorproject.com
SUMMARY:Keeping the Momentum Going After NaNoWriMo
DESCRIPTION:NaNoWriMo is officially behind us\, and now it’s time to keep that writing momentum going! Join us in this Expert Session with award-winning indie author and writing coach\, Bethany Atazadeh\, to get the scoop on how to continue your progress long after November. No matter how your NaNoWriMo went\, this lightning webinar will be full of tips and advice on how to hit your writing goals.
URL:https://indieauthorproject.com/expert-session/keeping-the-momentum-going-after-nanowrimo/
LOCATION:Virtual Event
CATEGORIES:Expert Sessions
ATTACH;FMTTYPE=image/jpeg:https://indieauthorproject.com/wp-content/uploads/2020/12/bg-IAP-ExpertSession-BethanyA.jpg
ORGANIZER;CN="Indie Author Project":MAILTO:info@indieauthorproject.com
END:VEVENT
END:VCALENDAR