BEGIN:VCALENDAR
VERSION:2.0
PRODID:-//Indie Author Project - ECPv6.15.20//NONSGML v1.0//EN
CALSCALE:GREGORIAN
METHOD:PUBLISH
X-WR-CALNAME:Indie Author Project
X-ORIGINAL-URL:https://indieauthorproject.com
X-WR-CALDESC:Events for Indie Author Project
REFRESH-INTERVAL;VALUE=DURATION:PT1H
X-Robots-Tag:noindex
X-PUBLISHED-TTL:PT1H
BEGIN:VTIMEZONE
TZID:America/New_York
BEGIN:DAYLIGHT
TZOFFSETFROM:-0500
TZOFFSETTO:-0400
TZNAME:EDT
DTSTART:20190310T070000
END:DAYLIGHT
BEGIN:STANDARD
TZOFFSETFROM:-0400
TZOFFSETTO:-0500
TZNAME:EST
DTSTART:20191103T060000
END:STANDARD
BEGIN:DAYLIGHT
TZOFFSETFROM:-0500
TZOFFSETTO:-0400
TZNAME:EDT
DTSTART:20200308T070000
END:DAYLIGHT
BEGIN:STANDARD
TZOFFSETFROM:-0400
TZOFFSETTO:-0500
TZNAME:EST
DTSTART:20201101T060000
END:STANDARD
BEGIN:DAYLIGHT
TZOFFSETFROM:-0500
TZOFFSETTO:-0400
TZNAME:EDT
DTSTART:20210314T070000
END:DAYLIGHT
BEGIN:STANDARD
TZOFFSETFROM:-0400
TZOFFSETTO:-0500
TZNAME:EST
DTSTART:20211107T060000
END:STANDARD
END:VTIMEZONE
BEGIN:VEVENT
DTSTART;TZID=America/New_York:20201015T120000
DTEND;TZID=America/New_York:20201015T130000
DTSTAMP:20260424T053741
CREATED:20250703T160550Z
LAST-MODIFIED:20250703T162938Z
UID:6370-1602763200-1602766800@indieauthorproject.com
SUMMARY:Balancing Writing and Parenting With Award-Winning Author Katie L. Carroll
DESCRIPTION:As a parent\, finding the time and energy to write is challenging in the best of times. In our current climate of virtual learning and working from home\, finding time to write while facing these extra demands can feel impossible. Although designed with the particular needs of parents in mind\, this webinar will help any time-strapped writer discover tools and strategies to get the words on the page. Drawing from her own experience as a parent of three children under the age of 10\, award-winning author Katie L. Carroll will share her best tips for time management and accountability\, offering an encouraging environment for parents and writers in these unprecedented times.
URL:https://indieauthorproject.com/expert-session/balancing-writing-and-parenting-with-award-winning-author-katie-l-carroll/
LOCATION:Virtual Event
CATEGORIES:Expert Sessions
ATTACH;FMTTYPE=image/jpeg:https://indieauthorproject.com/wp-content/uploads/2020/10/bg-IAP-ExpertSession-KatieLCarroll.jpg
ORGANIZER;CN="Indie Author Project":MAILTO:info@indieauthorproject.com
END:VEVENT
END:VCALENDAR