BEGIN:VCALENDAR
VERSION:2.0
PRODID:-//Indie Author Project - ECPv6.15.20//NONSGML v1.0//EN
CALSCALE:GREGORIAN
METHOD:PUBLISH
X-ORIGINAL-URL:https://indieauthorproject.com
X-WR-CALDESC:Events for Indie Author Project
REFRESH-INTERVAL;VALUE=DURATION:PT1H
X-Robots-Tag:noindex
X-PUBLISHED-TTL:PT1H
BEGIN:VTIMEZONE
TZID:America/New_York
BEGIN:DAYLIGHT
TZOFFSETFROM:-0500
TZOFFSETTO:-0400
TZNAME:EDT
DTSTART:20190310T070000
END:DAYLIGHT
BEGIN:STANDARD
TZOFFSETFROM:-0400
TZOFFSETTO:-0500
TZNAME:EST
DTSTART:20191103T060000
END:STANDARD
BEGIN:DAYLIGHT
TZOFFSETFROM:-0500
TZOFFSETTO:-0400
TZNAME:EDT
DTSTART:20200308T070000
END:DAYLIGHT
BEGIN:STANDARD
TZOFFSETFROM:-0400
TZOFFSETTO:-0500
TZNAME:EST
DTSTART:20201101T060000
END:STANDARD
BEGIN:DAYLIGHT
TZOFFSETFROM:-0500
TZOFFSETTO:-0400
TZNAME:EDT
DTSTART:20210314T070000
END:DAYLIGHT
BEGIN:STANDARD
TZOFFSETFROM:-0400
TZOFFSETTO:-0500
TZNAME:EST
DTSTART:20211107T060000
END:STANDARD
END:VTIMEZONE
BEGIN:VEVENT
DTSTART;TZID=America/New_York:20200618T120000
DTEND;TZID=America/New_York:20200618T130000
DTSTAMP:20260424T120616
CREATED:20250703T160553Z
LAST-MODIFIED:20250703T163325Z
UID:6374-1592481600-1592485200@indieauthorproject.com
SUMMARY:Marketing Outside of the Box with award-winning indie author\, Jacqui Castle
DESCRIPTION:Are you an indie author ready to see your book in the hands of more readers? Let’s look beyond the newsletters\, beyond the standard social media posts\, and beyond the paid ads. In this interactive webinar\, we’ll discuss ways to step out of your comfort zone\, think outside the box\, and reach an audience you didn’t know was waiting. We’ll discuss methods for leveraging your own strengths\, embracing your local community\, and reaching audiences beyond traditional book-centric media outlets. Your readers are waiting\, so let’s go find them!
URL:https://indieauthorproject.com/expert-session/marketing-outside-of-the-box-with-award-winning-indie-author-jacqui-castle/
CATEGORIES:Expert Sessions
ATTACH;FMTTYPE=image/jpeg:https://indieauthorproject.com/wp-content/uploads/2020/05/bg-IAP-ExpertSession-JacquiCastle.jpg
ORGANIZER;CN="Indie Author Project":MAILTO:info@indieauthorproject.com
END:VEVENT
END:VCALENDAR