BEGIN:VCALENDAR
VERSION:2.0
PRODID:-//Indie Author Project - ECPv6.15.20//NONSGML v1.0//EN
CALSCALE:GREGORIAN
METHOD:PUBLISH
X-ORIGINAL-URL:https://indieauthorproject.com
X-WR-CALDESC:Events for Indie Author Project
REFRESH-INTERVAL;VALUE=DURATION:PT1H
X-Robots-Tag:noindex
X-PUBLISHED-TTL:PT1H
BEGIN:VTIMEZONE
TZID:America/New_York
BEGIN:DAYLIGHT
TZOFFSETFROM:-0500
TZOFFSETTO:-0400
TZNAME:EDT
DTSTART:20190310T070000
END:DAYLIGHT
BEGIN:STANDARD
TZOFFSETFROM:-0400
TZOFFSETTO:-0500
TZNAME:EST
DTSTART:20191103T060000
END:STANDARD
BEGIN:DAYLIGHT
TZOFFSETFROM:-0500
TZOFFSETTO:-0400
TZNAME:EDT
DTSTART:20200308T070000
END:DAYLIGHT
BEGIN:STANDARD
TZOFFSETFROM:-0400
TZOFFSETTO:-0500
TZNAME:EST
DTSTART:20201101T060000
END:STANDARD
BEGIN:DAYLIGHT
TZOFFSETFROM:-0500
TZOFFSETTO:-0400
TZNAME:EDT
DTSTART:20210314T070000
END:DAYLIGHT
BEGIN:STANDARD
TZOFFSETFROM:-0400
TZOFFSETTO:-0500
TZNAME:EST
DTSTART:20211107T060000
END:STANDARD
END:VTIMEZONE
BEGIN:VEVENT
DTSTART;TZID=America/New_York:20200716T120000
DTEND;TZID=America/New_York:20200716T130000
DTSTAMP:20260424T085011
CREATED:20250703T160553Z
LAST-MODIFIED:20250703T163205Z
UID:6373-1594900800-1594904400@indieauthorproject.com
SUMMARY:Creating Stellar Author Websites with Award-winning Author and Webmaster Scott Semegran
DESCRIPTION:An author’s website is the number one opportunity for an author to market\, promote\, and sell their books\, as well as share their story about their journey as an indie author with the world. Is your website up to snuff? Learn the ins and outs of creating a beautiful author website\, even if you’re not a webmaster. If you don’t have a website\, or your website is subpar\, then you’re missing out on the number one opportunity to shine with the one promotional tool that is 100% under your control: your website. In this interactive webinar\, we’ll discuss what’s involved in procuring a domain name and setting up a website\, creating great content about your books\, and reaching new readers worldwide. What are you waiting for? Let’s do this!
URL:https://indieauthorproject.com/expert-session/creating-stellar-author-websites-with-award-winning-author-and-webmaster-scott-semegran/
CATEGORIES:Expert Sessions
ATTACH;FMTTYPE=image/jpeg:https://indieauthorproject.com/wp-content/uploads/2020/05/bg-IAP-ExpertSession-ScottSemegran.jpg
ORGANIZER;CN="Indie Author Project":MAILTO:info@indieauthorproject.com
END:VEVENT
END:VCALENDAR